BEGIN:VCALENDAR
VERSION:2.0
PRODID:KKTIX
CALSCALE:GREGORIAN
METHOD:PUBLISH
BEGIN:VTIMEZONE
TZID:Asia/Taipei
END:VTIMEZONE
BEGIN:VEVENT
DTSTAMP:20260419T144934Z
UID:2d6b0176-147f-41e5-8d86-e646d7abcaaf
DTSTART:20150807T053000Z
DTEND:20150807T075000Z
CLASS:PUBLIC
DESCRIPTION:https://cba.kktix.cc/events/xs20150807
LOCATION: (台中市北區忠明路200號2F) CBA台中會館 (德昌金融
 大樓2F，京城銀行樓上)
SUMMARY:20150807_CBA異業結盟-欣聖分會
END:VEVENT
END:VCALENDAR
